View In:
ArcGIS JavaScript
ArcGIS Online Map Viewer
ArcGIS Earth
ArcMap
View Footprint In:
ArcGIS Online Map Viewer
Service Description: Hillshade of the Greater Blue Earth River Basin. Derived from a DEM created using the state of Minnesota's 3m lidar data.
Name: Gran/Gran_Hillshade
Description: Hillshade of the Greater Blue Earth River Basin. Derived from a DEM created using the state of Minnesota's 3m lidar data.
Single Fused Map Cache: false
Extent:
XMin: 321711.2198716925
YMin: 4787095.32714017
XMax: 474804.2198716925
YMax: 4897687.32714017
Spatial Reference: 26915
(26915)
LatestVCSWkid(0)
Initial Extent:
XMin: 321711.2198716925
YMin: 4787095.32714017
XMax: 474804.2198716925
YMax: 4897687.32714017
Spatial Reference: 26915
(26915)
LatestVCSWkid(0)
Full Extent:
XMin: 321711.2198716925
YMin: 4787095.32714017
XMax: 474804.2198716925
YMax: 4897687.32714017
Spatial Reference: 26915
(26915)
LatestVCSWkid(0)
Pixel Size X: 3.0
Pixel Size Y: 3.0
Band Count: 1
Pixel Type: S32
RasterFunction Infos: {"rasterFunctionInfos": [{
"name": "None",
"description": "",
"help": ""
}]}
Mensuration Capabilities: Basic
Has Histograms: true
Has Colormap: false
Has Multi Dimensions : false
Rendering Rule:
Min Scale: 0
Max Scale: 0
Copyright Text: Karen Gran, Martin Bevis, University of Minnesota - Duluth
Service Data Type: esriImageServiceDataTypeGeneric
Min Values: 0
Max Values: 254
Mean Values: 179.61958542068
Standard Deviation Values: 7.1336160444016
Object ID Field:
Fields:
None
Default Mosaic Method: Center
Allowed Mosaic Methods:
SortField:
SortValue: null
Mosaic Operator: First
Default Compression Quality: 75
Default Resampling Method: Bilinear
Max Record Count: null
Max Image Height: 4100
Max Image Width: 15000
Max Download Image Count: null
Max Mosaic Image Count: null
Allow Raster Function: true
Allow Copy: true
Allow Analysis: true
Allow Compute TiePoints: false
Supports Statistics: false
Supports Advanced Queries: false
Use StandardizedQueries: true
Raster Type Infos:
Name: Raster Dataset
Description: Supports all ArcGIS Raster Datasets
Help:
Has Raster Attribute Table: false
Edit Fields Info: null
Ownership Based AccessControl For Rasters: null
Child Resources:
Info
Histograms
Statistics
Key Properties
Legend
Raster Function Infos
Supported Operations:
Export Image
Identify
Measure
Compute Histograms
Compute Statistics Histograms
Get Samples
Compute Class Statistics
Query Boundary
Compute Pixel Location
Compute Angles
Validate
Project