View In:
ArcGIS JavaScript
ArcGIS Online Map Viewer
ArcGIS Earth
ArcMap
ArcGIS Pro
View Footprint In:
ArcGIS Online Map Viewer
Service Description: <DIV STYLE="text-align:Left;font-size:12pt"><DIV><DIV><P><SPAN>Created from </SPAN><A href="https://www.wri.org/data/aqueduct-global-maps-40-data" STYLE="text-decoration:underline;"><SPAN>World Resources Institute Aqueduct 4.0 Current and Future Global Maps Data</SPAN></A><SPAN>, </SPAN><A href="https://creativecommons.org/licenses/by/4.0/" STYLE="text-decoration:underline;"><SPAN>CC BY 4.0</SPAN></A></P><P /><P><SPAN>Kuzma, S., M.F.P. Bierkens, S. Lakshman, T. Luo, L. Saccoccia, E. H. Sutanudjaja, and R. Van Beek. 2023. “Aqueduct 4.0: Updated decision-relevant global water risk indicators.” Technical Note. Washington, DC: World Resources Institute. Available online at: doi.org/10.46830/writn.23.00061.</SPAN></P><P><SPAN> </SPAN></P><P><SPAN>Lehner, B., and G. Grill. 2013. “Global River Hydrography and Network Routing: Baseline Data and New Approaches to Study the World’s Large River Systems.” Hydrological Processes 27 (15): 2171–86.</SPAN></P></DIV></DIV></DIV>
Map Name: Drinking water, unimproved or none (UDW)
Legend
All Layers and Tables
Dynamic Legend
Dynamic All Layers
Layers:
Description: <DIV STYLE="text-align:Left;font-size:12pt"><DIV><DIV><P><SPAN>Created from </SPAN><A href="https://www.wri.org/data/aqueduct-global-maps-40-data" STYLE="text-decoration:underline;"><SPAN>World Resources Institute Aqueduct 4.0 Current and Future Global Maps Data</SPAN></A><SPAN>, </SPAN><A href="https://creativecommons.org/licenses/by/4.0/" STYLE="text-decoration:underline;"><SPAN>CC BY 4.0</SPAN></A></P><P /><P><SPAN>Kuzma, S., M.F.P. Bierkens, S. Lakshman, T. Luo, L. Saccoccia, E. H. Sutanudjaja, and R. Van Beek. 2023. “Aqueduct 4.0: Updated decision-relevant global water risk indicators.” Technical Note. Washington, DC: World Resources Institute. Available online at: doi.org/10.46830/writn.23.00061.</SPAN></P><P><SPAN> </SPAN></P><P><SPAN>Lehner, B., and G. Grill. 2013. “Global River Hydrography and Network Routing: Baseline Data and New Approaches to Study the World’s Large River Systems.” Hydrological Processes 27 (15): 2171–86.</SPAN></P></DIV></DIV></DIV>
Copyright Text: World Resources Institute, CC BY 4.0
Spatial Reference:
102100
(3857)
LatestVCSWkid(0)
Single Fused Map Cache: true
Tile Info:
- Height: 256.0
- Width: 256.0
- DPI: 96.0
-
Levels of Detail: 24
-
Level ID: 1
[ Start Tile, End Tile ]
- Resolution: 78271.5169639999
- Scale: 2.95828763795777E8
-
Level ID: 2
[ Start Tile, End Tile ]
- Resolution: 39135.7584820001
- Scale: 1.47914381897889E8
-
Level ID: 3
[ Start Tile, End Tile ]
- Resolution: 19567.8792409999
- Scale: 7.3957190948944E7
-
Level ID: 4
[ Start Tile, End Tile ]
- Resolution: 9783.93962049996
- Scale: 3.6978595474472E7
-
Level ID: 5
[ Start Tile, End Tile ]
- Resolution: 4891.96981024998
- Scale: 1.8489297737236E7
- Format: PNG
- Compression Quality: 0.0
- Origin: X: -2.0037508342787E7
Y: 2.0037508342787E7
- Spatial Reference: 102100
(3857)
LatestVCSWkid(0)
Storage Info:
- Storage Format: esriMapCacheStorageModeCompactV2
- Packet Size: 128
Initial Extent:
XMin: -3.402959349811197E7
YMin: -3.268790377995255E7
XMax: 3.402959349811197E7
YMax: 2.0900226844981253E7
Spatial Reference: 102100
(0)
LatestVCSWkid(0)
Full Extent:
XMin: -2.0037507067161843E7
YMin: -3.0240971958386146E7
XMax: 2.0037507067161843E7
YMax: 1.8453295023414847E7
Spatial Reference: 102100
(0)
LatestVCSWkid(0)
Units: esriMeters
Supported Image Format Types: PNG32,PNG24,PNG,JPG,DIB,TIFF,EMF,PS,PDF,GIF,SVG,SVGZ,BMP
Document Info:
Title: Unimproved/no drinking water
Author:
Comments: <DIV STYLE="text-align:Left;font-size:12pt"><DIV><DIV><P><SPAN>Created from </SPAN><A href="https://www.wri.org/data/aqueduct-global-maps-40-data" STYLE="text-decoration:underline;"><SPAN>World Resources Institute Aqueduct 4.0 Current and Future Global Maps Data</SPAN></A><SPAN>, </SPAN><A href="https://creativecommons.org/licenses/by/4.0/" STYLE="text-decoration:underline;"><SPAN>CC BY 4.0</SPAN></A></P><P /><P><SPAN>Kuzma, S., M.F.P. Bierkens, S. Lakshman, T. Luo, L. Saccoccia, E. H. Sutanudjaja, and R. Van Beek. 2023. “Aqueduct 4.0: Updated decision-relevant global water risk indicators.” Technical Note. Washington, DC: World Resources Institute. Available online at: doi.org/10.46830/writn.23.00061.</SPAN></P><P><SPAN> </SPAN></P><P><SPAN>Lehner, B., and G. Grill. 2013. “Global River Hydrography and Network Routing: Baseline Data and New Approaches to Study the World’s Large River Systems.” Hydrological Processes 27 (15): 2171–86.</SPAN></P></DIV></DIV></DIV>
Subject: Aqueducts with high or extremely high levels of unimproved (or, no) drinking water
Category:
Keywords: water,drinking water,aqueduct,access
AntialiasingMode: Fast
TextAntialiasingMode: Force
Supports Dynamic Layers: true
MaxRecordCount: 2000
MaxImageHeight: 4096
MaxImageWidth: 4096
Supported Query Formats: JSON, geoJSON, PBF
Supports Query Data Elements: true
Min Scale: 5.91657527591555E8
Max Scale: 1155581.108577
Min LOD: 0
Max LOD: 9
Supports Datum Transformation: true
Child Resources:
Info
Dynamic Layer
Supported Operations:
Export Map
Identify
QueryLegends
QueryDomains
Find
Return Updates